BEGIN:VCALENDAR
VERSION:2.0
PRODID:-//Or Emet — the Minnesota Congregation for Humanistic Judaism - ECPv6.15.11//NONSGML v1.0//EN
CALSCALE:GREGORIAN
METHOD:PUBLISH
X-ORIGINAL-URL:https://oremet.org
X-WR-CALDESC:Events for Or Emet — the Minnesota Congregation for Humanistic Judaism
REFRESH-INTERVAL;VALUE=DURATION:PT1H
X-Robots-Tag:noindex
X-PUBLISHED-TTL:PT1H
BEGIN:VTIMEZONE
TZID:America/Chicago
BEGIN:DAYLIGHT
TZOFFSETFROM:-0600
TZOFFSETTO:-0500
TZNAME:CDT
DTSTART:20250309T080000
END:DAYLIGHT
BEGIN:STANDARD
TZOFFSETFROM:-0500
TZOFFSETTO:-0600
TZNAME:CST
DTSTART:20251102T070000
END:STANDARD
BEGIN:DAYLIGHT
TZOFFSETFROM:-0600
TZOFFSETTO:-0500
TZNAME:CDT
DTSTART:20260308T080000
END:DAYLIGHT
BEGIN:STANDARD
TZOFFSETFROM:-0500
TZOFFSETTO:-0600
TZNAME:CST
DTSTART:20261101T070000
END:STANDARD
BEGIN:DAYLIGHT
TZOFFSETFROM:-0600
TZOFFSETTO:-0500
TZNAME:CDT
DTSTART:20270314T080000
END:DAYLIGHT
BEGIN:STANDARD
TZOFFSETFROM:-0500
TZOFFSETTO:-0600
TZNAME:CST
DTSTART:20271107T070000
END:STANDARD
END:VTIMEZONE
BEGIN:VEVENT
DTSTART;TZID=America/Chicago:20260606T100000
DTEND;TZID=America/Chicago:20260606T120000
DTSTAMP:20260420T074408
CREATED:20260330T022901Z
LAST-MODIFIED:20260330T022901Z
UID:1055-1780740000-1780747200@oremet.org
SUMMARY:Adult Program: Or Emet Annual Meeting and Picnic
DESCRIPTION:On Saturday\, June 6\, Or Emet’s annual meeting will take place concurrently with the Jewish Cultural Sunday School\, followed by a potluck picnic. \nThe adult programs are free and open to the public and meet concurrently with the Jewish Cultural Sunday School. \nThose who cannot attend in person may join over Zoom. Zoom registration information will be added closer to the event date. \nWe continue to collect empty pill bottles and personal care items for clients at Listening House\, a St. Paul drop-in center. Donations are gratefully accepted at all Shabbat and Sunday programs. \nOr Emet is a secular congregation celebrating and honoring Jewish culture\, history and values from a humanistic\, inclusive perspective. \nFor information about Or Emet’s Jewish Cultural Sunday School\, contact JCSS director Molly Phipps at school@oremet.org. For information about Or Emet\, email info@oremet.org or visit oremet.org.
URL:https://oremet.org/event/adult-program-or-emet-annual-meeting-and-picnic/
LOCATION:Twin Cities German Immersion School\,\, 1031 Como Ave\, St Paul\, MN\, 55103\, United States
CATEGORIES:Adult Program
ATTACH;FMTTYPE=image/jpeg:https://oremet.org/wp-content/uploads/2026/02/Humanorah-3color.jpg
END:VEVENT
BEGIN:VEVENT
DTSTART;TZID=America/Chicago:20260606T100000
DTEND;TZID=America/Chicago:20260606T123000
DTSTAMP:20260420T074408
CREATED:20260330T020205Z
LAST-MODIFIED:20260330T022451Z
UID:1043-1780740000-1780749000@oremet.org
SUMMARY:Jewish Cultural Sunday School #10 (Meeting on Saturday this month)
DESCRIPTION:Or Emet’s Jewish Cultural Sunday School (JCSS) for 3 to 13-year-olds meets monthly on Sunday mornings\, with a concurrent program for their parents and other adults. The focus of each varies monthly. (This month\, JCSS will take place on Saturday.) \nOr Emet adult programs are free and open to the public. \nFor more information about Or Emet’s JCSS\, visit the school blog on the Or Emet website\, oremet.org. \nTo arrange a JCSS visit\, learn more about JCSS\, the youth program and/or for JCSS-related questions and issues\, contact school director Molly Phipps at school@oremet.org. \nPlease direct inquiries about Or Emet and/or membership to info@oremet.org.
URL:https://oremet.org/event/jewish-cultural-sunday-school-10/
LOCATION:Twin Cities German Immersion School\,\, 1031 Como Ave\, St Paul\, MN\, 55103\, United States
CATEGORIES:Jewish Cultural Sunday School
ATTACH;FMTTYPE=image/jpeg:https://oremet.org/wp-content/uploads/2025/01/sunday-school.jpg
END:VEVENT
BEGIN:VEVENT
DTSTART;TZID=America/Chicago:20260609T190000
DTEND;TZID=America/Chicago:20260609T203000
DTSTAMP:20260420T074408
CREATED:20260330T024314Z
LAST-MODIFIED:20260330T024314Z
UID:1064-1781031600-1781037000@oremet.org
SUMMARY:Executive Committee Meeting
DESCRIPTION:If interested in attending\, please email info@oremet.org or call 612-787-7812. \nFor more information about Or Emet​ and/or membership\, please email info@oremet.org\, call 612-787-7812 or visit oremet.org.
URL:https://oremet.org/event/executive-committee-meeting-10/
LOCATION:MN
CATEGORIES:Executive Committee Meeting
END:VEVENT
END:VCALENDAR