BEGIN:VCALENDAR
VERSION:2.0
PRODID:-//Or Emet — the Minnesota Congregation for Humanistic Judaism - ECPv6.15.11//NONSGML v1.0//EN
CALSCALE:GREGORIAN
METHOD:PUBLISH
X-ORIGINAL-URL:https://oremet.org
X-WR-CALDESC:Events for Or Emet — the Minnesota Congregation for Humanistic Judaism
REFRESH-INTERVAL;VALUE=DURATION:PT1H
X-Robots-Tag:noindex
X-PUBLISHED-TTL:PT1H
BEGIN:VTIMEZONE
TZID:America/Chicago
BEGIN:DAYLIGHT
TZOFFSETFROM:-0600
TZOFFSETTO:-0500
TZNAME:CDT
DTSTART:20250309T080000
END:DAYLIGHT
BEGIN:STANDARD
TZOFFSETFROM:-0500
TZOFFSETTO:-0600
TZNAME:CST
DTSTART:20251102T070000
END:STANDARD
BEGIN:DAYLIGHT
TZOFFSETFROM:-0600
TZOFFSETTO:-0500
TZNAME:CDT
DTSTART:20260308T080000
END:DAYLIGHT
BEGIN:STANDARD
TZOFFSETFROM:-0500
TZOFFSETTO:-0600
TZNAME:CST
DTSTART:20261101T070000
END:STANDARD
BEGIN:DAYLIGHT
TZOFFSETFROM:-0600
TZOFFSETTO:-0500
TZNAME:CDT
DTSTART:20270314T080000
END:DAYLIGHT
BEGIN:STANDARD
TZOFFSETFROM:-0500
TZOFFSETTO:-0600
TZNAME:CST
DTSTART:20271107T070000
END:STANDARD
END:VTIMEZONE
BEGIN:VEVENT
DTSTART;TZID=America/Chicago:20260111T100000
DTEND;TZID=America/Chicago:20260111T120000
DTSTAMP:20260420T091052
CREATED:20260205T005427Z
LAST-MODIFIED:20260205T005703Z
UID:708-1768125600-1768132800@oremet.org
SUMMARY:Adult Program: "Jewish Communities in Ancient Egypt"
DESCRIPTION:On Sunday\, Jan. 11\, 2026\, Or Emet will host a presentation by Dr. Patricia Ahearne-Kroll\, Associate Professor in the Department of Classical and Near Eastern Religions and Cultures at the University of Minnesota. She will speak about Jewish communities in ancient Egypt. \nAhearne-Kroll will talk about the evidence for Jewish life in Hellenistic and early Roman Egypt and the various ways these populations interacted with the multicultural realities of Egypt.  \nAhearne-Kroll holds a Ph.D. in Biblical Studies (Hebrew Bible) from the University of Chicago Divinity School. Her research has focused on literature from Egypt during the Second Temple period in Israel\, as well as the impact of religious practices in Hellenistic Egypt on discourses of power and identity.  \nThose who cannot attend in person may join over Zoom. Please register in advance for the Zoom option. \nThe Sunday adult programs are free and open to the public and meet concurrently with the Jewish Cultural Sunday School. \nWe continue to collect empty pill bottles and personal care items for clients at Listening House\, a St. Paul drop-in center. Donations are gratefully accepted at all Shabbat and Sunday programs. \nOr Emet is a secular congregation celebrating and honoring Jewish culture\, history and values from a humanistic\, inclusive perspective. \nFor information about Or Emet’s Jewish Cultural Sunday School\, contact JCSS director Molly Phipps at school@oremet.org. For information about Or Emet\, email info@oremet.org or visit oremet.org.
URL:https://oremet.org/event/adult-program-jewish-communities-in-ancient-egypt/
LOCATION:Twin Cities German Immersion School\,\, 1031 Como Ave\, St Paul\, MN\, 55103\, United States
CATEGORIES:Adult Program
ATTACH;FMTTYPE=image/jpeg:https://oremet.org/wp-content/uploads/2026/02/PatriciaAhearne-Kroll-scaled-1.jpg
END:VEVENT
BEGIN:VEVENT
DTSTART;TZID=America/Chicago:20260111T100000
DTEND;TZID=America/Chicago:20260111T123000
DTSTAMP:20260420T091052
CREATED:20260205T004717Z
LAST-MODIFIED:20260205T004717Z
UID:706-1768125600-1768134600@oremet.org
SUMMARY:Jewish Cultural Sunday School #5
DESCRIPTION:Or Emet’s Jewish Cultural Sunday School (JCSS) for 3 to 13-year-olds meets monthly on Sunday mornings\, with a concurrent program for their parents and other adults. The focus of each varies monthly.  \nOr Emet adult programs are free and open to the public.  \nFor more information about Or Emet’s JCSS\, visit the school blog on the Or Emet website\, oremet.org.  \nTo arrange a JCSS visit\, learn more about JCSS\, the youth program and/or for JCSS -related questions and issues\, contact school director Molly Phipps at school@oremet.org. \nPlease direct inquiries about Or Emet and/or membership to info@oremet.org.
URL:https://oremet.org/event/jewish-cultural-sunday-school-5/
LOCATION:Twin Cities German Immersion School\,\, 1031 Como Ave\, St Paul\, MN\, 55103\, United States
CATEGORIES:Jewish Cultural Sunday School
ATTACH;FMTTYPE=image/jpeg:https://oremet.org/wp-content/uploads/2025/01/sunday-school.jpg
END:VEVENT
BEGIN:VEVENT
DTSTART;TZID=America/Chicago:20260113T190000
DTEND;TZID=America/Chicago:20260113T203000
DTSTAMP:20260420T091052
CREATED:20260205T010003Z
LAST-MODIFIED:20260205T204339Z
UID:713-1768330800-1768336200@oremet.org
SUMMARY:Executive Committee Meeting
DESCRIPTION:If interested in attending\, please contact info@oremet.org; 612-787-7812 \nFor more information about Or Emet​ and/or membership\, contact info@oremet.org\, 612- 787-7812 or visit oremet.org.
URL:https://oremet.org/event/executive-committee-meeting-5/
LOCATION:Zoom
CATEGORIES:Executive Committee Meeting
END:VEVENT
BEGIN:VEVENT
DTSTART;TZID=America/Chicago:20260118T100000
DTEND;TZID=America/Chicago:20260118T120000
DTSTAMP:20260420T091052
CREATED:20260205T011028Z
LAST-MODIFIED:20260205T011028Z
UID:715-1768730400-1768737600@oremet.org
SUMMARY:New and Prospective Member Brunch
DESCRIPTION:Join us for a casual\, informative brunch (bagels!) and an opportunity to meet Or Emet’s Rabbi\, Eva Cohen\, and other congregational leaders. New Or Emet members and others interested in learning more about our congregation are welcome. (Golden Valley location will be provided when you sign up.) \nYou’ll be able to connect with members and others while learning about Humanistic Judaism\, our Jewish Cultural Sunday School\, our B’Mitzvah programs\, adoption into Humanistic Judaism and the Or Emet community. \nIn the past\, this event has been lively\, fun and informative. All are welcome; families and children are welcome\, too\, of course! \nMembership information is also available on Or Emet’s website\, oremet.org. \nIf you are interested in attending and for more info\, please email president@oremet.org.
URL:https://oremet.org/event/new-and-prospective-member-brunch/
LOCATION:TBA
CATEGORIES:Welcome Brunch
ATTACH;FMTTYPE=image/jpeg:https://oremet.org/wp-content/uploads/2026/02/Bagels_BigBagelBundle_480x4801.jpg
END:VEVENT
BEGIN:VEVENT
DTSTART;TZID=America/Chicago:20260124T100000
DTEND;TZID=America/Chicago:20260124T113000
DTSTAMP:20260420T091052
CREATED:20260205T170105Z
LAST-MODIFIED:20260205T204633Z
UID:718-1769248800-1769254200@oremet.org
SUMMARY:Shabbat Service | Program: "The State of White Christian Nationalism and Antisemitism"
DESCRIPTION:On Saturday\, Jan. 24\, 2026\, from 10-11:30 a.m.\, Or Emet will host a Humanistic Shabbat service led by Rabbi Eva Cohen followed by a Q&A with Angela Denker\, a local journalist\, Lutheran pastor and author. A social time will follow. \nThe events will take place at the Minnesota JCC Sabes Center Minneapolis\, 4330 S. Cedar Lake Road\, Minneapolis. \nThe conversation with Denker will center on the rise and threat of white Christian nationalism\, online radicalization\, violent masculinity and their growth and prominence in Trump’s second term. Denker will also help explain the role of so-called “Christian Zionism” and how Christian nationalists understand the role of Israel in their theology and politics\, in contrast to Zionism within the Jewish community.  \nDenker is an award-winning author\, Evangelical Lutheran Church in America pastor and veteran journalist. Her first book\, “Red State Christians\,” was the 2019 Silver Foreword Indies award winner for political and social sciences. Her second book\, “Disciples of White Jesus: The Radicalization of American Boyhood\,” was released in March 2025.  \nShe is a former columnist for the Minnesota Star Tribune and has written for many publications\, including Sports Illustrated\, the Washington Post and Fortune magazine\, and has appeared on CNN\, BBC\, SkyNews and NPR to share her research on politics and Christian nationalism. \nThose who cannot attend the program in person may join over Zoom. Please register in advance for the Zoom option. \nOr Emet is a secular congregation celebrating and honoring Jewish culture\, history and values from a humanistic\, inclusive perspective. \n For more information about Or Emet\, email info@oremet.org or visit oremet.org.
URL:https://oremet.org/event/shabbat-service-program-the-state-of-white-christian-nationalism-and-antisemitism/
LOCATION:Minnesota JCC Sabes Center Minneapolis\, 4330 Cedar Lake Rd\, Minneapolis\, MN\, 55416\, United States
CATEGORIES:Adult Program,Shabbat Service
ATTACH;FMTTYPE=image/jpeg:https://oremet.org/wp-content/uploads/2026/02/Angela-Denker_5249-scaled-1.jpg
END:VEVENT
BEGIN:VEVENT
DTSTART;TZID=America/Chicago:20260125T103000
DTEND;TZID=America/Chicago:20260125T120000
DTSTAMP:20260420T091052
CREATED:20260205T170853Z
LAST-MODIFIED:20260205T170853Z
UID:721-1769337000-1769342400@oremet.org
SUMMARY:Or Emet Book Club: 'The Flight Portfolio\,' by Julie Orringer
DESCRIPTION:The Flight Portfolio\, by Julie Orringer\, will be discussed. If you are interested in participating\, contact Bruce Pomerantz at bruce.f.pomerantz@comcast.net for location information. \n(In case of bad weather\, the book club will meet Sunday\, Feb. 1.)
URL:https://oremet.org/event/or-emet-book-club-the-flight-portfolio-by-julie-orringer/
LOCATION:TBA
CATEGORIES:Book Club
ATTACH;FMTTYPE=image/jpeg:https://oremet.org/wp-content/uploads/2026/02/The-Flight-Portfolio.jpg
END:VEVENT
END:VCALENDAR