BEGIN:VCALENDAR
VERSION:2.0
PRODID:-//Or Emet – the Minnesota Congregation for Humanistic Judaism - ECPv6.15.20//NONSGML v1.0//EN
CALSCALE:GREGORIAN
METHOD:PUBLISH
X-WR-CALNAME:Or Emet – the Minnesota Congregation for Humanistic Judaism
X-ORIGINAL-URL:https://oremet.org
X-WR-CALDESC:Events for Or Emet – the Minnesota Congregation for Humanistic Judaism
REFRESH-INTERVAL;VALUE=DURATION:PT1H
X-Robots-Tag:noindex
X-PUBLISHED-TTL:PT1H
BEGIN:VTIMEZONE
TZID:America/Chicago
BEGIN:DAYLIGHT
TZOFFSETFROM:-0600
TZOFFSETTO:-0500
TZNAME:CDT
DTSTART:20240310T080000
END:DAYLIGHT
BEGIN:STANDARD
TZOFFSETFROM:-0500
TZOFFSETTO:-0600
TZNAME:CST
DTSTART:20241103T070000
END:STANDARD
BEGIN:DAYLIGHT
TZOFFSETFROM:-0600
TZOFFSETTO:-0500
TZNAME:CDT
DTSTART:20250309T080000
END:DAYLIGHT
BEGIN:STANDARD
TZOFFSETFROM:-0500
TZOFFSETTO:-0600
TZNAME:CST
DTSTART:20251102T070000
END:STANDARD
BEGIN:DAYLIGHT
TZOFFSETFROM:-0600
TZOFFSETTO:-0500
TZNAME:CDT
DTSTART:20260308T080000
END:DAYLIGHT
BEGIN:STANDARD
TZOFFSETFROM:-0500
TZOFFSETTO:-0600
TZNAME:CST
DTSTART:20261101T070000
END:STANDARD
END:VTIMEZONE
BEGIN:VEVENT
DTSTART;TZID=America/Chicago:20251207T100000
DTEND;TZID=America/Chicago:20251207T120000
DTSTAMP:20260424T072255
CREATED:20260204T183721Z
LAST-MODIFIED:20260205T204118Z
UID:694-1765101600-1765108800@oremet.org
SUMMARY:Adult Program: "Lessons From Listening House" and Judaica Swap
DESCRIPTION:On Sunday\, Dec. 7\, Or Emet will host a program on Listening House of St. Paul\, a day shelter and resource center that provides hospitality and practical assistance to adults experiencing homelessness\, poverty and loneliness. \nThe program will run from 10 a.m.-noon at Twin Cities German Immersion School\, 1031 Como Ave. in St. Paul. A social time will follow. \nAndrea Hinderaker\, the volunteer coordinator for Listening House\, will share updates on the facility\, including its recent transitions\, and offer reflections on the current state of homelessness in the Twin Cities. She also will share perspectives on the culture of homelessness and the spirit in which Listening House offers its services. \nThose who cannot attend in person may join via Zoom. Please register in advance for the Zoom option. \nAfter the program\, Or Emet will host a free Judaica swap meet. Attendees are encouraged to bring items such as ceremonial and ritual objects\, textiles\, books\, art and jewelry to swap with others. Unclaimed items will be donated to Heritage Judaica\, a local nonprofit that collects and offers Judaica at no cost.  \nThe Sunday adult programs are free and open to the public and meet concurrently with the Jewish Cultural Sunday School. \nOr Emet is a secular congregation celebrating and honoring Jewish culture\, history and values from a humanistic\, inclusive perspective.  \nFor information about Or Emet’s Jewish Cultural Sunday School\, contact JCSS director Molly Phipps at school@oremet.org. For information about Or Emet\, email info@oremet.org or visit oremet.org.
URL:https://oremet.org/event/adult-program-lessons-from-listening-house-and-judaica-swap/
LOCATION:Twin Cities German Immersion School\,\, 1031 Como Ave\, St Paul\, MN\, 55103\, United States
CATEGORIES:Adult Program
ATTACH;FMTTYPE=image/jpeg:https://oremet.org/wp-content/uploads/2026/02/Andrea-Hinderaker.jpg
END:VEVENT
BEGIN:VEVENT
DTSTART;TZID=America/Chicago:20251207T100000
DTEND;TZID=America/Chicago:20251207T123000
DTSTAMP:20260424T072255
CREATED:20260204T183130Z
LAST-MODIFIED:20260204T183130Z
UID:692-1765101600-1765110600@oremet.org
SUMMARY:Jewish Cultural Sunday School #4
DESCRIPTION:Or Emet’s Jewish Cultural Sunday School (JCSS) for 3 to 13-year-olds meets monthly on Sunday mornings\, with a concurrent program for their parents and other adults. The focus of each varies monthly.  \nOr Emet adult programs are free and open to the public.  \nFor more information about Or Emet’s JCSS\, visit the school blog on the Or Emet website\, oremet.org.  \nTo arrange a JCSS visit\, learn more about JCSS\, the youth program and/or for JCSS -related questions and issues\, contact school director Molly Phipps at school@oremet.org. \nPlease direct inquiries about Or Emet and/or membership to info@oremet.org.
URL:https://oremet.org/event/jewish-cultural-sunday-school-4/
LOCATION:Twin Cities German Immersion School\,\, 1031 Como Ave\, St Paul\, MN\, 55103\, United States
CATEGORIES:Jewish Cultural Sunday School
ATTACH;FMTTYPE=image/jpeg:https://oremet.org/wp-content/uploads/2025/01/sunday-school.jpg
END:VEVENT
BEGIN:VEVENT
DTSTART;TZID=America/Chicago:20251209T190000
DTEND;TZID=America/Chicago:20251209T203000
DTSTAMP:20260424T072255
CREATED:20260205T001838Z
LAST-MODIFIED:20260205T204221Z
UID:698-1765306800-1765312200@oremet.org
SUMMARY:Executive Committee Meeting
DESCRIPTION:If interested in attending\, please contact info@oremet.org; 612-787-7812 \nFor more information about Or Emet​ and/or membership\, contact info@oremet.org\, 612- 787-7812 or visit oremet.org.
URL:https://oremet.org/event/executive-committee-meeting-4/
LOCATION:Zoom
CATEGORIES:Executive Committee Meeting
END:VEVENT
BEGIN:VEVENT
DTSTART;TZID=America/Chicago:20251214T160000
DTEND;TZID=America/Chicago:20251214T183000
DTSTAMP:20260424T072255
CREATED:20260205T002901Z
LAST-MODIFIED:20260205T002901Z
UID:700-1765728000-1765737000@oremet.org
SUMMARY:Or Emet Hanukkah Party
DESCRIPTION:Members and their guests are invited to celebrate Hanukkah again with Or Emet!  \nFeaturing fun group crafts\, dreidel games\, song\, dance\, menorah lighting and a community dinner. All will be family and kid friendly. \nWe will also be collecting hats and mittens on our mitten menorah to donate. \nPlease RSVP and sign up to volunteer by Dec. 3. \nFor more information about Or Emet programs\, email info@oremet.org.
URL:https://oremet.org/event/or-emet-hanukkah-party/
LOCATION:First Unitarian Society of Minneapolis\, 900 Mount Curve Ave\, Minneapolis\, MN\, 55403\, United States
CATEGORIES:Holiday
ATTACH;FMTTYPE=image/jpeg:https://oremet.org/wp-content/uploads/2025/03/or-emet-members.jpg
END:VEVENT
BEGIN:VEVENT
DTSTART;TZID=America/Chicago:20251220T100000
DTEND;TZID=America/Chicago:20251220T113000
DTSTAMP:20260424T072255
CREATED:20260205T004007Z
LAST-MODIFIED:20260205T004138Z
UID:703-1766224800-1766230200@oremet.org
SUMMARY:Shabbat Service | Program: "An Inside Look at BRKFST’s Groundbreaking\, Multicultural\, BIPOC Group"
DESCRIPTION:On Saturday\, Dec. 20\, from 10-11:30 a.m.\, Or Emet will host a Humanistic Shabbat service led by Rabbi Eva Cohen\, followed by a presentation by Lisa “MonaLisa” Berman\, co-founder and co-artistic director of BRKFST Dance Company. \nBerman will present “An Inside Look at BRKFST’s Groundbreaking\, Multicultural\, BIPOC Group.” She will describe how BRKFST creates intellectually rigorous\, physically demanding works of art through abstraction\, breaking and contemporary dance vernacular — dance that evolves naturally from within a community. \nBerman and Joseph “MN Joe” Tran co-founded BRKFST in St. Paul in 2014. Guided by the hip-hop adage “each one teach one\,” where everyone remains both teacher and student regardless of their background\, identity or status\, BRKFST honors its roots from breaking culture by embodying inclusivity\, passing down their knowledge to the next generation and representing the form with foundation and innovation. \nBerman is the recipient of the McKnight Dancer Fellowship\, Jerome Travel and Study Grant\, multiple Minnesota State Arts Board and Metropolitan Regional Arts Council grants\, and most recently\, the Bridge Fund for Dancers Grant through the City of Minneapolis Arts and Cultural Affairs. \nExpanding her artistic practice to interdisciplinary exploration\, Berman partnered with film director Maria Juranic\, co-creating\, producing and choreographing the short\, experimental dance film “Dreamers.” The film was chosen as an official selection in 11 international film festivals\, receiving the Grand Jury Award at the In/Motion Festival and Best Experimental Film at the Tirana International Film Festival in Albania. \nThose who cannot attend the Shabbat service in person may join over Zoom. Please register in advance for the Zoom option.  \nOr Emet is a secular congregation celebrating and honoring Jewish culture\, history and values from a humanistic\, inclusive perspective.  \nFor more information about Or Emet\, email info@oremet.org or visit oremet.org.
URL:https://oremet.org/event/shabbat-service-program-an-inside-look-at-brkfsts-groundbreaking-multicultural-bipoc-group/
LOCATION:Minnesota JCC Sabes Center Minneapolis\, 4330 Cedar Lake Rd\, Minneapolis\, MN\, 55416\, United States
CATEGORIES:Adult Program,Shabbat Service
ATTACH;FMTTYPE=image/jpeg:https://oremet.org/wp-content/uploads/2026/02/Lisa-MonaLisa-Berman_Photo-credit_Adam-Adolphus-scaled-1.jpg
END:VEVENT
END:VCALENDAR