BEGIN:VCALENDAR
VERSION:2.0
PRODID:-//Or Emet — the Minnesota Congregation for Humanistic Judaism - ECPv6.15.11//NONSGML v1.0//EN
CALSCALE:GREGORIAN
METHOD:PUBLISH
X-WR-CALNAME:Or Emet — the Minnesota Congregation for Humanistic Judaism
X-ORIGINAL-URL:https://oremet.org
X-WR-CALDESC:Events for Or Emet — the Minnesota Congregation for Humanistic Judaism
REFRESH-INTERVAL;VALUE=DURATION:PT1H
X-Robots-Tag:noindex
X-PUBLISHED-TTL:PT1H
BEGIN:VTIMEZONE
TZID:America/Chicago
BEGIN:DAYLIGHT
TZOFFSETFROM:-0600
TZOFFSETTO:-0500
TZNAME:CDT
DTSTART:20250309T080000
END:DAYLIGHT
BEGIN:STANDARD
TZOFFSETFROM:-0500
TZOFFSETTO:-0600
TZNAME:CST
DTSTART:20251102T070000
END:STANDARD
BEGIN:DAYLIGHT
TZOFFSETFROM:-0600
TZOFFSETTO:-0500
TZNAME:CDT
DTSTART:20260308T080000
END:DAYLIGHT
BEGIN:STANDARD
TZOFFSETFROM:-0500
TZOFFSETTO:-0600
TZNAME:CST
DTSTART:20261101T070000
END:STANDARD
BEGIN:DAYLIGHT
TZOFFSETFROM:-0600
TZOFFSETTO:-0500
TZNAME:CDT
DTSTART:20270314T080000
END:DAYLIGHT
BEGIN:STANDARD
TZOFFSETFROM:-0500
TZOFFSETTO:-0600
TZNAME:CST
DTSTART:20271107T070000
END:STANDARD
END:VTIMEZONE
BEGIN:VEVENT
DTSTART;TZID=America/Chicago:20260221T100000
DTEND;TZID=America/Chicago:20260221T113000
DTSTAMP:20260420T112926
CREATED:20260205T180736Z
LAST-MODIFIED:20260314T155819Z
UID:731-1771668000-1771673400@oremet.org
SUMMARY:Shabbat Service | Program: "AI-Driven Data Center Boom in Minnesota"
DESCRIPTION:On Saturday\, Feb. 21\, from 10-11:30 a.m.\, Or Emet will host a Humanistic Shabbat service led by Rabbi Eva Cohen followed by a presentation by Evan Mulholland\, a staff attorney with the nonprofit Minnesota Center for Environmental Advocacy. A social time will follow. \nThe events will take place at the Minnesota JCC Sabes Center Minneapolis\, 4330 S. Cedar Lake Road\, Minneapolis. \nMulholland will discuss the rapid expansion of artificial intelligence-driven data centers in Minnesota and the environmental risks associated with hyperscale development. As director of MCEA’s Healthy Communities program\, he works to protect Minnesotans and the state’s natural resources from the threats tied to large‑scale industrial projects. \nThe organization has filed five ongoing lawsuits challenging the environmental review conducted on hyperscale data centers proposed in Lakeville\, North Mankato\, Hermantown\, Pine Island and Faribault. \nMulholland holds a bachelor’s degree in philosophy from Brandeis University\, a law degree from Harvard Law School and a master of laws degree in environmental law from Vermont Law School. \nThose who cannot attend the program in person may join over Zoom. Please register in advance for the Zoom option. \nOr Emet is a secular congregation celebrating and honoring Jewish culture\, history and values from a humanistic\, inclusive perspective. \nFor more information about Or Emet\, email info@oremet.org or visit oremet.org.
URL:https://oremet.org/event/shabbat-service-program-ai-driven-data-center-boom-in-minnesota/
LOCATION:Minnesota JCC Sabes Center Minneapolis\, 4330 Cedar Lake Rd\, Minneapolis\, MN\, 55416\, United States
CATEGORIES:Adult Program,Shabbat Service
ATTACH;FMTTYPE=image/jpeg:https://oremet.org/wp-content/uploads/2026/02/Evan_Mulholland-1-scaled-1.jpg
END:VEVENT
BEGIN:VEVENT
DTSTART;TZID=America/Chicago:20260301T140000
DTEND;TZID=America/Chicago:20260301T163000
DTSTAMP:20260420T112926
CREATED:20260205T183517Z
LAST-MODIFIED:20260224T204043Z
UID:734-1772373600-1772382600@oremet.org
SUMMARY:Or Emet Purim Carnival
DESCRIPTION:Or Emet and the First Unitarian Society of Minneapolis will host a Purim carnival celebrating Jewish traditions with humanistic values.  \nThe carnival will take place from 2-4:30 p.m. Sunday\, March 1\, at the First Unitarian Society of Minneapolis\, 900 Mount Curve Ave.\, Minneapolis. \nIt will include a costume parade\, Purim treats\, carnival games\, prizes and a bouncy house. Please bring cash to exchange for tickets. At ~3 p.m.\, we will sing a few Purim songs and listen to an adapted\, kid-friendly Megillah reading\, accompanied by an aerial arts performance by Jolie Melana Meshbesher! After the Megillah reading and performance\, games and other carnival activities will resume. To honor the holiday tradition of matanot l’evyonim\, we will also be assembling food packages for those in need. \nFor more information about Or Emet programs\, email info@oremet.org.
URL:https://oremet.org/event/or-emet-purim-carnival/
LOCATION:First Unitarian Society of Minneapolis\, 900 Mount Curve Ave\, Minneapolis\, MN\, 55403\, United States
CATEGORIES:Holiday
ATTACH;FMTTYPE=image/jpeg:https://oremet.org/wp-content/uploads/2026/02/Purim-Carnival-Flyer-2026-768x994-1.jpg
END:VEVENT
BEGIN:VEVENT
DTSTART;TZID=America/Chicago:20260308T100000
DTEND;TZID=America/Chicago:20260308T120000
DTSTAMP:20260420T112926
CREATED:20260205T184644Z
LAST-MODIFIED:20260218T051222Z
UID:739-1772964000-1772971200@oremet.org
SUMMARY:Adult Program: "Jews and Comics"
DESCRIPTION:On Sunday\, March 8\, Or Emet member Dr. Richard Logan\, a retired professor of human development\, will lead a discussion inspired by the summer 2025 issue of Humanistic Judaism Magazine\, which focused on the meaningful connections between Jews and the world of comics.  \nThe event will run from 10 a.m.-noon at Twin Cities German Immersion School\, 1031 Como Ave. in St. Paul. A social time will follow. \nThe magazine issue explored the many ways Jews have shaped the comics and graphic‑novel landscape — from founding the American comics industry to pioneering the American graphic novel and continuing to influence the art and writing of the genre.  \nThe story of Jews and comics is a compelling one that involves many original and creative literary\, artistic and pop-culture achievements. Logan is especially interested in how this history offers a window into several intriguing features of Jewish culture. He looks forward to participants sharing their own experiences with comics and graphic novels. \nLogan is a past-president of Or Emet and past-president of the Society for Humanistic Judaism.  \nThose who cannot attend in person may join via Zoom. Please register in advance for the Zoom option.   \nThe Sunday adult programs are free and open to the public and meet concurrently with the Jewish Cultural Sunday School. \nOr Emet is a secular congregation celebrating and honoring Jewish culture\, history and values from a humanistic\, inclusive perspective.  \nFor information about Or Emet’s Jewish Cultural Sunday School\, contact JCSS director Molly Phipps at school@oremet.org. For information about Or Emet\, email info@oremet.org or visit oremet.org.
URL:https://oremet.org/event/adult-program-jews-and-comics/
LOCATION:Twin Cities German Immersion School\,\, 1031 Como Ave\, St Paul\, MN\, 55103\, United States
CATEGORIES:Adult Program
ATTACH;FMTTYPE=image/jpeg:https://oremet.org/wp-content/uploads/2026/02/Jews_Comics.jpg
END:VEVENT
BEGIN:VEVENT
DTSTART;TZID=America/Chicago:20260308T100000
DTEND;TZID=America/Chicago:20260308T123000
DTSTAMP:20260420T112926
CREATED:20260205T183954Z
LAST-MODIFIED:20260205T183954Z
UID:737-1772964000-1772973000@oremet.org
SUMMARY:Jewish Cultural Sunday School #7
DESCRIPTION:Or Emet’s Jewish Cultural Sunday School (JCSS) for 3 to 13-year-olds meets monthly on Sunday mornings\, with a concurrent program for their parents and other adults. The focus of each varies monthly.  \nOr Emet adult programs are free and open to the public.  \nFor more information about Or Emet’s JCSS\, visit the school blog on the Or Emet website\, oremet.org.  \nTo arrange a JCSS visit\, learn more about JCSS\, the youth program and/or for JCSS -related questions and issues\, contact school director Molly Phipps at school@oremet.org. \nPlease direct inquiries about Or Emet and/or membership to info@oremet.org.
URL:https://oremet.org/event/jewish-cultural-sunday-school-7/
LOCATION:Twin Cities German Immersion School\,\, 1031 Como Ave\, St Paul\, MN\, 55103\, United States
CATEGORIES:Jewish Cultural Sunday School
ATTACH;FMTTYPE=image/jpeg:https://oremet.org/wp-content/uploads/2025/01/sunday-school.jpg
END:VEVENT
BEGIN:VEVENT
DTSTART;TZID=America/Chicago:20260310T190000
DTEND;TZID=America/Chicago:20260310T203000
DTSTAMP:20260420T112926
CREATED:20260205T185358Z
LAST-MODIFIED:20260330T023822Z
UID:743-1773169200-1773174600@oremet.org
SUMMARY:Executive Committee Meeting
DESCRIPTION:If interested in attending\, please email info@oremet.org or call 612-787-7812. \nFor more information about Or Emet​ and/or membership\, please email info@oremet.org\, call 612-787-7812 or visit oremet.org.
URL:https://oremet.org/event/executive-committee-meeting-7/
LOCATION:Zoom
CATEGORIES:Executive Committee Meeting
END:VEVENT
BEGIN:VEVENT
DTSTART;TZID=America/Chicago:20260320T193000
DTEND;TZID=America/Chicago:20260320T210000
DTSTAMP:20260420T112926
CREATED:20260205T185054Z
LAST-MODIFIED:20260317T001322Z
UID:741-1774035000-1774040400@oremet.org
SUMMARY:Shabbat Service | Refugee Shabbat Program: "Karen Organization of Minnesota"
DESCRIPTION:On Friday\, March 20\, from 7:30-9 p.m.\, Or Emet will host a Shabbat service led by Rabbi Eva Cohen followed by a program in solidarity with the HIAS Refugee Shabbat initiative. The events will take place at the Minnesota JCC Sabes Center Minneapolis\, 4330 S. Cedar Lake Road\, Minneapolis.  \nAfter the service\, Alice Buckner and June Nin Way of the Karen Organization of Minnesota (KOM) will discuss current issues and trends relating to immigrant and refugee communities in Minnesota. KOM\, the first social services agency in the country founded by Karen refugees from Burma\, builds on the strengths of refugee and immigrant communities and removes barriers to achieving economic\, social and cultural well-being. \nKOM updated its mission in 2022 to formally acknowledge service to people from all national origins and cultures. It is now the lead family education support agency for the Minnesota Office of Refugee Resettlement serving children in public schools during their first five years living in the state. The organization prioritizes being majority governed\, led and staffed by people from within the communities served. \nBuckner\, executive director of KOM\, has served in nonprofit\, business healthcare\, government and higher education for more than 30 years. Way\, a KOM board member\, is a former refugee from Thailand. She serves the Karen community through her roles as interpreter\, school liaison\, case manager and as one of the few Karen-speaking therapists in the Twin Cities.  \nThose who cannot attend the program in person may join over Zoom. Please register in advance for the Zoom option. \nOr Emet is a secular congregation celebrating and honoring Jewish culture\, history and values from a humanistic\, inclusive perspective. \nFor more information about Or Emet\, email info@oremet.org or visit oremet.org.
URL:https://oremet.org/event/shabbat-service-program-refugee-shabbat/
LOCATION:Minnesota JCC Sabes Center Minneapolis\, 4330 Cedar Lake Rd\, Minneapolis\, MN\, 55416\, United States
CATEGORIES:Adult Program,Shabbat Service
ATTACH;FMTTYPE=image/jpeg:https://oremet.org/wp-content/uploads/2026/02/March20_2026.jpg
END:VEVENT
BEGIN:VEVENT
DTSTART;TZID=America/Chicago:20260403T180000
DTEND;TZID=America/Chicago:20260403T210000
DTSTAMP:20260420T112926
CREATED:20260330T013137Z
LAST-MODIFIED:20260330T172841Z
UID:1026-1775239200-1775250000@oremet.org
SUMMARY:Or Emet Humanistic Passover Seder
DESCRIPTION:On Friday\, April 3\, from 6-9 p.m.\, Or Emet will host a Humanistic Passover Seder led by Rabbi Eva Cohen. The Seder emphasizes themes of human freedom and dignity\, the capacity to change our destiny and the power of hope. The Seder also includes traditional Passover elements and songs. Or Emet members and visitors are welcome to attend. \nThose who cannot attend in person may join over Zoom. Please register in advance for the Zoom option. \nOr Emet is a secular congregation celebrating and honoring Jewish culture\, history and values from a humanistic\, inclusive perspective. For more information\, email info@oremet.org or visit oremet.org.
URL:https://oremet.org/event/or-emet-humanistic-passover-seder/
LOCATION:First Unitarian Society of Minneapolis\, 900 Mount Curve Ave\, Minneapolis\, MN\, 55403\, United States
CATEGORIES:Adult Program,Holiday
ATTACH;FMTTYPE=image/jpeg:https://oremet.org/wp-content/uploads/2026/03/Passover_Seder_plate_with_wine_and_matzot_FB.jpg
END:VEVENT
BEGIN:VEVENT
DTSTART;TZID=America/Chicago:20260412T100000
DTEND;TZID=America/Chicago:20260412T120000
DTSTAMP:20260420T112926
CREATED:20260331T034026Z
LAST-MODIFIED:20260331T034220Z
UID:1068-1775988000-1775995200@oremet.org
SUMMARY:Adult Program: "My 30 Years at the American Jewish World — Reflections of a Journalist in Minneapolis"
DESCRIPTION:On Sunday\, April 12\, Or Emet will host a presentation by Mordecai Specktor\, editor and publisher of the American Jewish World\, the newspaper of the Jewish community in Minnesota since 1915. \nSpecktor will present “My 30 Years at the American Jewish World — Reflections of a Journalist in Minneapolis\,” followed by a Q&A period. \nSpecktor has worked at the American Jewish World for the past 30 years. He also is a longtime columnist for The Circle (Minneapolis)\, Native news and arts. His journalism over the past 60 years has focused on social justice movements and varied cultural expressions.  \nThose who cannot attend in person may join via Zoom. Please register in advance for the Zoom option.   \nThe Sunday adult programs are free and open to the public and meet concurrently with the Jewish Cultural Sunday School. \nOr Emet is a secular congregation celebrating and honoring Jewish culture\, history and values from a humanistic\, inclusive perspective.  \nFor information about Or Emet’s Jewish Cultural Sunday School\, contact JCSS director Molly Phipps at school@oremet.org. For information about Or Emet\, email info@oremet.org or visit oremet.org.
URL:https://oremet.org/event/or-emet-welcomes-editor-and-publisher-of-american-jewish-world/
LOCATION:Twin Cities German Immersion School\,\, 1031 Como Ave\, St Paul\, MN\, 55103\, United States
CATEGORIES:Adult Program
ATTACH;FMTTYPE=image/jpeg:https://oremet.org/wp-content/uploads/2026/03/Mordecai-Specktor.jpg
END:VEVENT
BEGIN:VEVENT
DTSTART;TZID=America/Chicago:20260412T100000
DTEND;TZID=America/Chicago:20260412T123000
DTSTAMP:20260420T112926
CREATED:20260315T011945Z
LAST-MODIFIED:20260330T020247Z
UID:949-1775988000-1775997000@oremet.org
SUMMARY:Jewish Cultural Sunday School #8
DESCRIPTION:Or Emet’s Jewish Cultural Sunday School (JCSS) for 3 to 13-year-olds meets monthly on Sunday mornings\, with a concurrent program for their parents and other adults. The focus of each varies monthly. \nOr Emet adult programs are free and open to the public. \nFor more information about Or Emet’s JCSS\, visit the school blog on the Or Emet website\, oremet.org. \nTo arrange a JCSS visit\, learn more about JCSS\, the youth program and/or for JCSS-related questions and issues\, contact school director Molly Phipps at school@oremet.org. \nPlease direct inquiries about Or Emet and/or membership to info@oremet.org.
URL:https://oremet.org/event/jewish-cultural-sunday-school-8/
LOCATION:Twin Cities German Immersion School\,\, 1031 Como Ave\, St Paul\, MN\, 55103\, United States
CATEGORIES:Jewish Cultural Sunday School
ATTACH;FMTTYPE=image/jpeg:https://oremet.org/wp-content/uploads/2025/01/sunday-school.jpg
END:VEVENT
BEGIN:VEVENT
DTSTART;TZID=America/Chicago:20260414T190000
DTEND;TZID=America/Chicago:20260414T203000
DTSTAMP:20260420T112926
CREATED:20260330T023923Z
LAST-MODIFIED:20260330T023923Z
UID:1059-1776193200-1776198600@oremet.org
SUMMARY:Executive Committee Meeting
DESCRIPTION:If interested in attending\, please email info@oremet.org or call 612-787-7812. \nFor more information about Or Emet​ and/or membership\, please email info@oremet.org\, call 612-787-7812 or visit oremet.org.
URL:https://oremet.org/event/executive-committee-meeting-8/
LOCATION:MN
CATEGORIES:Executive Committee Meeting
END:VEVENT
BEGIN:VEVENT
DTSTART;TZID=America/Chicago:20260424T193000
DTEND;TZID=America/Chicago:20260424T210000
DTSTAMP:20260420T112926
CREATED:20260330T014814Z
LAST-MODIFIED:20260416T020929Z
UID:1034-1777059000-1777064400@oremet.org
SUMMARY:Shabbat Service | Program: "My Work With Sheila and Paul Wellstone"
DESCRIPTION:On Friday\, April 24\, from 7:30-9 p.m.\, Or Emet will host a Shabbat service led by Rabbi Eva Cohen followed by a presentation by Marcia Avner\, former communications director for the late Sen. Paul Wellstone. A social time will follow. \nThe events will take place at the Minnesota JCC Sabes Center Minneapolis\, 4330 S. Cedar Lake Road\, Minneapolis.  \nAvner worked with Wellstone during his first term in the U.S. Senate. Together\, they confronted the governor over health concerns relating to power lines. She also supported Sheila Wellstone’s commitment to the movement to end violence in families.  \nAvner will share stories and observations about how these leaders carried out their conviction that\, “We all do better when we all do better.” The Wellstone legacy is strong in Minnesota and across the country. Avner invites attendees to share their own encounters and connections to the Wellstones. \nThose who cannot attend the program in person may join over Zoom. Please register in advance for the Zoom option. \nOr Emet is a secular congregation celebrating and honoring Jewish culture\, history and values from a humanistic\, inclusive perspective. \nFor more information about Or Emet\, email info@oremet.org or visit oremet.org.
URL:https://oremet.org/event/shabbat-service-program-my-work-with-sheila-and-paul-wellstone/
LOCATION:Minnesota JCC Sabes Center Minneapolis\, 4330 Cedar Lake Rd\, Minneapolis\, MN\, 55416\, United States
CATEGORIES:Adult Program,Shabbat Service
ATTACH;FMTTYPE=image/jpeg:https://oremet.org/wp-content/uploads/2026/03/Marcia-Avner-scaled.jpg
END:VEVENT
BEGIN:VEVENT
DTSTART;TZID=America/Chicago:20260512T190000
DTEND;TZID=America/Chicago:20260512T203000
DTSTAMP:20260420T112926
CREATED:20260330T024114Z
LAST-MODIFIED:20260330T024114Z
UID:1061-1778612400-1778617800@oremet.org
SUMMARY:Executive Committee Meeting
DESCRIPTION:If interested in attending\, please email info@oremet.org or call 612-787-7812. \nFor more information about Or Emet​ and/or membership\, please email info@oremet.org\, call 612-787-7812 or visit oremet.org.
URL:https://oremet.org/event/executive-committee-meeting-9/
LOCATION:MN
END:VEVENT
BEGIN:VEVENT
DTSTART;TZID=America/Chicago:20260517T100000
DTEND;TZID=America/Chicago:20260517T120000
DTSTAMP:20260420T112926
CREATED:20260330T021625Z
LAST-MODIFIED:20260330T021625Z
UID:1051-1779012000-1779019200@oremet.org
SUMMARY:Adult Program: "Turning the Bend: When It’s Time for Senior Services"
DESCRIPTION:On Sunday\, May 17\, from 10 a.m.-noon\, Or Emet will host a presentation by social worker Roni Falck\, the senior services program coordinator for Jewish Family and Children’s Service of Minnesota. \nThe Sunday adult programs are free and open to the public and meet concurrently with the Jewish Cultural Sunday School. \nThose who cannot attend in person may join over Zoom. Zoom registration information will be added closer to the event date. \nWe continue to collect empty pill bottles and personal care items for clients at Listening House\, a St. Paul drop-in center. Donations are gratefully accepted at all Shabbat and Sunday programs. \nOr Emet is a secular congregation celebrating and honoring Jewish culture\, history and values from a humanistic\, inclusive perspective. \nFor information about Or Emet’s Jewish Cultural Sunday School\, contact JCSS director Molly Phipps at school@oremet.org. For information about Or Emet\, email info@oremet.org or visit oremet.org.
URL:https://oremet.org/event/adult-program-turning-the-bend-when-its-time-for-senior-services/
LOCATION:Twin Cities German Immersion School\,\, 1031 Como Ave\, St Paul\, MN\, 55103\, United States
CATEGORIES:Adult Program
ATTACH;FMTTYPE=image/jpeg:https://oremet.org/wp-content/uploads/2026/02/Humanorah-3color.jpg
END:VEVENT
BEGIN:VEVENT
DTSTART;TZID=America/Chicago:20260517T100000
DTEND;TZID=America/Chicago:20260517T123000
DTSTAMP:20260420T112926
CREATED:20260330T015536Z
LAST-MODIFIED:20260330T020305Z
UID:1037-1779012000-1779021000@oremet.org
SUMMARY:Jewish Cultural Sunday School #9
DESCRIPTION:Or Emet’s Jewish Cultural Sunday School (JCSS) for 3 to 13-year-olds meets monthly on Sunday mornings\, with a concurrent program for their parents and other adults. The focus of each varies monthly. \nOr Emet adult programs are free and open to the public. \nFor more information about Or Emet’s JCSS\, visit the school blog on the Or Emet website\, oremet.org. \nTo arrange a JCSS visit\, learn more about JCSS\, the youth program and/or for JCSS-related questions and issues\, contact school director Molly Phipps at school@oremet.org. \nPlease direct inquiries about Or Emet and/or membership to info@oremet.org.
URL:https://oremet.org/event/jewish-cultural-sunday-school-9/
LOCATION:Twin Cities German Immersion School\,\, 1031 Como Ave\, St Paul\, MN\, 55103\, United States
CATEGORIES:Jewish Cultural Sunday School
ATTACH;FMTTYPE=image/jpeg:https://oremet.org/wp-content/uploads/2025/01/sunday-school.jpg
END:VEVENT
BEGIN:VEVENT
DTSTART;TZID=America/Chicago:20260529T193000
DTEND;TZID=America/Chicago:20260529T210000
DTSTAMP:20260420T112926
CREATED:20260330T021050Z
LAST-MODIFIED:20260330T023050Z
UID:1048-1780083000-1780088400@oremet.org
SUMMARY:Shabbat Service | Program: “YMCA Center for Youth Voice Presenters”
DESCRIPTION:On Friday\, May 29\, from 7:30-9 p.m.\, Or Emet will host a Humanistic Shabbat service led by Rabbi Eva Cohen followed by a presentation and social time. \nTonight’s presenters are James Farnsworth\, program director for the YMCA Center for Youth Voice\, and students in the program. Students will speak about their involvement in the Model United Nations program and work in civic engagement. \nThose who cannot attend the program in person may join over Zoom. Registration information will be shared closer to the event date. \nWe continue to collect empty pill bottles and personal care items for clients at Listening House\, a St. Paul drop-in center. Donations are gratefully accepted at all Shabbat and Sunday programs. \nOr Emet is a secular congregation celebrating and honoring Jewish culture\, history and values from a humanistic\, inclusive perspective. For more information\, email info@oremet.org or visit oremet.org.
URL:https://oremet.org/event/shabbat-service-program-ymca-center-for-youth-voice-presenters/
LOCATION:Minnesota JCC Sabes Center Minneapolis\, 4330 Cedar Lake Rd\, Minneapolis\, MN\, 55416\, United States
CATEGORIES:Adult Program,Shabbat Service
ATTACH;FMTTYPE=image/jpeg:https://oremet.org/wp-content/uploads/2026/02/Humanorah-3color.jpg
END:VEVENT
BEGIN:VEVENT
DTSTART;TZID=America/Chicago:20260606T100000
DTEND;TZID=America/Chicago:20260606T120000
DTSTAMP:20260420T112926
CREATED:20260330T022901Z
LAST-MODIFIED:20260330T022901Z
UID:1055-1780740000-1780747200@oremet.org
SUMMARY:Adult Program: Or Emet Annual Meeting and Picnic
DESCRIPTION:On Saturday\, June 6\, Or Emet’s annual meeting will take place concurrently with the Jewish Cultural Sunday School\, followed by a potluck picnic. \nThe adult programs are free and open to the public and meet concurrently with the Jewish Cultural Sunday School. \nThose who cannot attend in person may join over Zoom. Zoom registration information will be added closer to the event date. \nWe continue to collect empty pill bottles and personal care items for clients at Listening House\, a St. Paul drop-in center. Donations are gratefully accepted at all Shabbat and Sunday programs. \nOr Emet is a secular congregation celebrating and honoring Jewish culture\, history and values from a humanistic\, inclusive perspective. \nFor information about Or Emet’s Jewish Cultural Sunday School\, contact JCSS director Molly Phipps at school@oremet.org. For information about Or Emet\, email info@oremet.org or visit oremet.org.
URL:https://oremet.org/event/adult-program-or-emet-annual-meeting-and-picnic/
LOCATION:Twin Cities German Immersion School\,\, 1031 Como Ave\, St Paul\, MN\, 55103\, United States
CATEGORIES:Adult Program
ATTACH;FMTTYPE=image/jpeg:https://oremet.org/wp-content/uploads/2026/02/Humanorah-3color.jpg
END:VEVENT
BEGIN:VEVENT
DTSTART;TZID=America/Chicago:20260606T100000
DTEND;TZID=America/Chicago:20260606T123000
DTSTAMP:20260420T112926
CREATED:20260330T020205Z
LAST-MODIFIED:20260330T022451Z
UID:1043-1780740000-1780749000@oremet.org
SUMMARY:Jewish Cultural Sunday School #10 (Meeting on Saturday this month)
DESCRIPTION:Or Emet’s Jewish Cultural Sunday School (JCSS) for 3 to 13-year-olds meets monthly on Sunday mornings\, with a concurrent program for their parents and other adults. The focus of each varies monthly. (This month\, JCSS will take place on Saturday.) \nOr Emet adult programs are free and open to the public. \nFor more information about Or Emet’s JCSS\, visit the school blog on the Or Emet website\, oremet.org. \nTo arrange a JCSS visit\, learn more about JCSS\, the youth program and/or for JCSS-related questions and issues\, contact school director Molly Phipps at school@oremet.org. \nPlease direct inquiries about Or Emet and/or membership to info@oremet.org.
URL:https://oremet.org/event/jewish-cultural-sunday-school-10/
LOCATION:Twin Cities German Immersion School\,\, 1031 Como Ave\, St Paul\, MN\, 55103\, United States
CATEGORIES:Jewish Cultural Sunday School
ATTACH;FMTTYPE=image/jpeg:https://oremet.org/wp-content/uploads/2025/01/sunday-school.jpg
END:VEVENT
BEGIN:VEVENT
DTSTART;TZID=America/Chicago:20260609T190000
DTEND;TZID=America/Chicago:20260609T203000
DTSTAMP:20260420T112926
CREATED:20260330T024314Z
LAST-MODIFIED:20260330T024314Z
UID:1064-1781031600-1781037000@oremet.org
SUMMARY:Executive Committee Meeting
DESCRIPTION:If interested in attending\, please email info@oremet.org or call 612-787-7812. \nFor more information about Or Emet​ and/or membership\, please email info@oremet.org\, call 612-787-7812 or visit oremet.org.
URL:https://oremet.org/event/executive-committee-meeting-10/
LOCATION:MN
CATEGORIES:Executive Committee Meeting
END:VEVENT
END:VCALENDAR