BEGIN:VCALENDAR
VERSION:2.0
PRODID:-//Or Emet — the Minnesota Congregation for Humanistic Judaism - ECPv6.15.11//NONSGML v1.0//EN
CALSCALE:GREGORIAN
METHOD:PUBLISH
X-WR-CALNAME:Or Emet — the Minnesota Congregation for Humanistic Judaism
X-ORIGINAL-URL:https://oremet.org
X-WR-CALDESC:Events for Or Emet — the Minnesota Congregation for Humanistic Judaism
REFRESH-INTERVAL;VALUE=DURATION:PT1H
X-Robots-Tag:noindex
X-PUBLISHED-TTL:PT1H
BEGIN:VTIMEZONE
TZID:America/Chicago
BEGIN:DAYLIGHT
TZOFFSETFROM:-0600
TZOFFSETTO:-0500
TZNAME:CDT
DTSTART:20240310T080000
END:DAYLIGHT
BEGIN:STANDARD
TZOFFSETFROM:-0500
TZOFFSETTO:-0600
TZNAME:CST
DTSTART:20241103T070000
END:STANDARD
BEGIN:DAYLIGHT
TZOFFSETFROM:-0600
TZOFFSETTO:-0500
TZNAME:CDT
DTSTART:20250309T080000
END:DAYLIGHT
BEGIN:STANDARD
TZOFFSETFROM:-0500
TZOFFSETTO:-0600
TZNAME:CST
DTSTART:20251102T070000
END:STANDARD
BEGIN:DAYLIGHT
TZOFFSETFROM:-0600
TZOFFSETTO:-0500
TZNAME:CDT
DTSTART:20260308T080000
END:DAYLIGHT
BEGIN:STANDARD
TZOFFSETFROM:-0500
TZOFFSETTO:-0600
TZNAME:CST
DTSTART:20261101T070000
END:STANDARD
END:VTIMEZONE
BEGIN:VEVENT
DTSTART;TZID=America/Chicago:20251001T190000
DTEND;TZID=America/Chicago:20251001T203000
DTSTAMP:20260419T075932
CREATED:20260204T023606Z
LAST-MODIFIED:20260204T023606Z
UID:653-1759345200-1759350600@oremet.org
SUMMARY:Kol Nidre Service
DESCRIPTION:Or Emet invites everyone to share in our High Holiday services. We are a secular congregation celebrating and honoring Jewish culture\, history and values from a humanistic\, inclusive perspective.  \nTonight’s Kol Nidre service will be led by Rabbi Eva Cohen. Those who cannot attend in person can join over Zoom. Please register in advance for the Zoom option. \nIn keeping with High Holiday tradition\, Or Emet welcomes donations of nonperishable food and personal hygiene items to be shared with a local community center. \nFor more information about Or Emet’s High Holiday services\, email highholidays@oremet.org. For general information about Or Emet\, email info@oremet.org or visit oremet.org.
URL:https://oremet.org/event/kol-nidre-service/
LOCATION:First Unitarian Society of Minneapolis\, 900 Mount Curve Ave\, Minneapolis\, MN\, 55403\, United States
CATEGORIES:High Holidays
ATTACH;FMTTYPE=image/jpeg:https://oremet.org/wp-content/uploads/2026/02/Nachson_Meditation-on-Nature.jpg
END:VEVENT
BEGIN:VEVENT
DTSTART;TZID=America/Chicago:20251002T160000
DTEND;TZID=America/Chicago:20251002T200000
DTSTAMP:20260419T075932
CREATED:20260204T023958Z
LAST-MODIFIED:20260204T171923Z
UID:656-1759420800-1759435200@oremet.org
SUMMARY:Yom Kippur Service and Break-Fast
DESCRIPTION:Or Emet invites everyone to share in our High Holiday services. We are a secular congregation celebrating and honoring Jewish culture\, history and values from a humanistic\, inclusive perspective.  \nToday’s Yom Kippur service will be led by Rabbi Eva Cohen. Those who cannot attend in person can join over Zoom. Please register in advance for the Zoom option. \nFollowing the Yom Kippur service\, a break-fast meal will be served. Details will be added a few weeks before the event. \nIn keeping with High Holiday tradition\, Or Emet welcomes donations of nonperishable food and personal hygiene items to be shared with a local community center. \nFor more information about Or Emet’s High Holiday services\, email highholidays@oremet.org. For general information about Or Emet\, email info@oremet.org or visit oremet.org.
URL:https://oremet.org/event/yom-kippur-and-break-fast/
CATEGORIES:High Holidays
ATTACH;FMTTYPE=image/png:https://oremet.org/wp-content/uploads/2026/01/1-Dan-shofar_Star-Tribune-e1769708473187.png
END:VEVENT
END:VCALENDAR