BEGIN:VCALENDAR
VERSION:2.0
PRODID:-//Or Emet – the Minnesota Congregation for Humanistic Judaism - ECPv6.15.20//NONSGML v1.0//EN
CALSCALE:GREGORIAN
METHOD:PUBLISH
X-ORIGINAL-URL:https://oremet.org
X-WR-CALDESC:Events for Or Emet – the Minnesota Congregation for Humanistic Judaism
REFRESH-INTERVAL;VALUE=DURATION:PT1H
X-Robots-Tag:noindex
X-PUBLISHED-TTL:PT1H
BEGIN:VTIMEZONE
TZID:America/Chicago
BEGIN:DAYLIGHT
TZOFFSETFROM:-0600
TZOFFSETTO:-0500
TZNAME:CDT
DTSTART:20250309T080000
END:DAYLIGHT
BEGIN:STANDARD
TZOFFSETFROM:-0500
TZOFFSETTO:-0600
TZNAME:CST
DTSTART:20251102T070000
END:STANDARD
BEGIN:DAYLIGHT
TZOFFSETFROM:-0600
TZOFFSETTO:-0500
TZNAME:CDT
DTSTART:20260308T080000
END:DAYLIGHT
BEGIN:STANDARD
TZOFFSETFROM:-0500
TZOFFSETTO:-0600
TZNAME:CST
DTSTART:20261101T070000
END:STANDARD
BEGIN:DAYLIGHT
TZOFFSETFROM:-0600
TZOFFSETTO:-0500
TZNAME:CDT
DTSTART:20270314T080000
END:DAYLIGHT
BEGIN:STANDARD
TZOFFSETFROM:-0500
TZOFFSETTO:-0600
TZNAME:CST
DTSTART:20271107T070000
END:STANDARD
END:VTIMEZONE
BEGIN:VEVENT
DTSTART;TZID=America/Chicago:20260308T100000
DTEND;TZID=America/Chicago:20260308T120000
DTSTAMP:20260424T042252
CREATED:20260205T184644Z
LAST-MODIFIED:20260218T051222Z
UID:739-1772964000-1772971200@oremet.org
SUMMARY:Adult Program: "Jews and Comics"
DESCRIPTION:On Sunday\, March 8\, Or Emet member Dr. Richard Logan\, a retired professor of human development\, will lead a discussion inspired by the summer 2025 issue of Humanistic Judaism Magazine\, which focused on the meaningful connections between Jews and the world of comics.  \nThe event will run from 10 a.m.-noon at Twin Cities German Immersion School\, 1031 Como Ave. in St. Paul. A social time will follow. \nThe magazine issue explored the many ways Jews have shaped the comics and graphic‑novel landscape — from founding the American comics industry to pioneering the American graphic novel and continuing to influence the art and writing of the genre.  \nThe story of Jews and comics is a compelling one that involves many original and creative literary\, artistic and pop-culture achievements. Logan is especially interested in how this history offers a window into several intriguing features of Jewish culture. He looks forward to participants sharing their own experiences with comics and graphic novels. \nLogan is a past-president of Or Emet and past-president of the Society for Humanistic Judaism.  \nThose who cannot attend in person may join via Zoom. Please register in advance for the Zoom option.   \nThe Sunday adult programs are free and open to the public and meet concurrently with the Jewish Cultural Sunday School. \nOr Emet is a secular congregation celebrating and honoring Jewish culture\, history and values from a humanistic\, inclusive perspective.  \nFor information about Or Emet’s Jewish Cultural Sunday School\, contact JCSS director Molly Phipps at school@oremet.org. For information about Or Emet\, email info@oremet.org or visit oremet.org.
URL:https://oremet.org/event/adult-program-jews-and-comics/
LOCATION:Twin Cities German Immersion School\,\, 1031 Como Ave\, St Paul\, MN\, 55103\, United States
CATEGORIES:Adult Program
ATTACH;FMTTYPE=image/jpeg:https://oremet.org/wp-content/uploads/2026/02/Jews_Comics.jpg
END:VEVENT
BEGIN:VEVENT
DTSTART;TZID=America/Chicago:20260308T100000
DTEND;TZID=America/Chicago:20260308T123000
DTSTAMP:20260424T042252
CREATED:20260205T183954Z
LAST-MODIFIED:20260205T183954Z
UID:737-1772964000-1772973000@oremet.org
SUMMARY:Jewish Cultural Sunday School #7
DESCRIPTION:Or Emet’s Jewish Cultural Sunday School (JCSS) for 3 to 13-year-olds meets monthly on Sunday mornings\, with a concurrent program for their parents and other adults. The focus of each varies monthly.  \nOr Emet adult programs are free and open to the public.  \nFor more information about Or Emet’s JCSS\, visit the school blog on the Or Emet website\, oremet.org.  \nTo arrange a JCSS visit\, learn more about JCSS\, the youth program and/or for JCSS -related questions and issues\, contact school director Molly Phipps at school@oremet.org. \nPlease direct inquiries about Or Emet and/or membership to info@oremet.org.
URL:https://oremet.org/event/jewish-cultural-sunday-school-7/
LOCATION:Twin Cities German Immersion School\,\, 1031 Como Ave\, St Paul\, MN\, 55103\, United States
CATEGORIES:Jewish Cultural Sunday School
ATTACH;FMTTYPE=image/jpeg:https://oremet.org/wp-content/uploads/2025/01/sunday-school.jpg
END:VEVENT
END:VCALENDAR