BEGIN:VCALENDAR
VERSION:2.0
PRODID:-//Or Emet — the Minnesota Congregation for Humanistic Judaism - ECPv6.15.11//NONSGML v1.0//EN
CALSCALE:GREGORIAN
METHOD:PUBLISH
X-ORIGINAL-URL:https://oremet.org
X-WR-CALDESC:Events for Or Emet — the Minnesota Congregation for Humanistic Judaism
REFRESH-INTERVAL;VALUE=DURATION:PT1H
X-Robots-Tag:noindex
X-PUBLISHED-TTL:PT1H
BEGIN:VTIMEZONE
TZID:America/Chicago
BEGIN:DAYLIGHT
TZOFFSETFROM:-0600
TZOFFSETTO:-0500
TZNAME:CDT
DTSTART:20250309T080000
END:DAYLIGHT
BEGIN:STANDARD
TZOFFSETFROM:-0500
TZOFFSETTO:-0600
TZNAME:CST
DTSTART:20251102T070000
END:STANDARD
BEGIN:DAYLIGHT
TZOFFSETFROM:-0600
TZOFFSETTO:-0500
TZNAME:CDT
DTSTART:20260308T080000
END:DAYLIGHT
BEGIN:STANDARD
TZOFFSETFROM:-0500
TZOFFSETTO:-0600
TZNAME:CST
DTSTART:20261101T070000
END:STANDARD
BEGIN:DAYLIGHT
TZOFFSETFROM:-0600
TZOFFSETTO:-0500
TZNAME:CDT
DTSTART:20270314T080000
END:DAYLIGHT
BEGIN:STANDARD
TZOFFSETFROM:-0500
TZOFFSETTO:-0600
TZNAME:CST
DTSTART:20271107T070000
END:STANDARD
END:VTIMEZONE
BEGIN:VEVENT
DTSTART;TZID=America/Chicago:20260221T100000
DTEND;TZID=America/Chicago:20260221T113000
DTSTAMP:20260420T091118
CREATED:20260205T180736Z
LAST-MODIFIED:20260314T155819Z
UID:731-1771668000-1771673400@oremet.org
SUMMARY:Shabbat Service | Program: "AI-Driven Data Center Boom in Minnesota"
DESCRIPTION:On Saturday\, Feb. 21\, from 10-11:30 a.m.\, Or Emet will host a Humanistic Shabbat service led by Rabbi Eva Cohen followed by a presentation by Evan Mulholland\, a staff attorney with the nonprofit Minnesota Center for Environmental Advocacy. A social time will follow. \nThe events will take place at the Minnesota JCC Sabes Center Minneapolis\, 4330 S. Cedar Lake Road\, Minneapolis. \nMulholland will discuss the rapid expansion of artificial intelligence-driven data centers in Minnesota and the environmental risks associated with hyperscale development. As director of MCEA’s Healthy Communities program\, he works to protect Minnesotans and the state’s natural resources from the threats tied to large‑scale industrial projects. \nThe organization has filed five ongoing lawsuits challenging the environmental review conducted on hyperscale data centers proposed in Lakeville\, North Mankato\, Hermantown\, Pine Island and Faribault. \nMulholland holds a bachelor’s degree in philosophy from Brandeis University\, a law degree from Harvard Law School and a master of laws degree in environmental law from Vermont Law School. \nThose who cannot attend the program in person may join over Zoom. Please register in advance for the Zoom option. \nOr Emet is a secular congregation celebrating and honoring Jewish culture\, history and values from a humanistic\, inclusive perspective. \nFor more information about Or Emet\, email info@oremet.org or visit oremet.org.
URL:https://oremet.org/event/shabbat-service-program-ai-driven-data-center-boom-in-minnesota/
LOCATION:Minnesota JCC Sabes Center Minneapolis\, 4330 Cedar Lake Rd\, Minneapolis\, MN\, 55416\, United States
CATEGORIES:Adult Program,Shabbat Service
ATTACH;FMTTYPE=image/jpeg:https://oremet.org/wp-content/uploads/2026/02/Evan_Mulholland-1-scaled-1.jpg
END:VEVENT
END:VCALENDAR