BEGIN:VCALENDAR
VERSION:2.0
PRODID:-//Or Emet — the Minnesota Congregation for Humanistic Judaism - ECPv6.15.11//NONSGML v1.0//EN
CALSCALE:GREGORIAN
METHOD:PUBLISH
X-ORIGINAL-URL:https://oremet.org
X-WR-CALDESC:Events for Or Emet — the Minnesota Congregation for Humanistic Judaism
REFRESH-INTERVAL;VALUE=DURATION:PT1H
X-Robots-Tag:noindex
X-PUBLISHED-TTL:PT1H
BEGIN:VTIMEZONE
TZID:America/Chicago
BEGIN:DAYLIGHT
TZOFFSETFROM:-0600
TZOFFSETTO:-0500
TZNAME:CDT
DTSTART:20250309T080000
END:DAYLIGHT
BEGIN:STANDARD
TZOFFSETFROM:-0500
TZOFFSETTO:-0600
TZNAME:CST
DTSTART:20251102T070000
END:STANDARD
BEGIN:DAYLIGHT
TZOFFSETFROM:-0600
TZOFFSETTO:-0500
TZNAME:CDT
DTSTART:20260308T080000
END:DAYLIGHT
BEGIN:STANDARD
TZOFFSETFROM:-0500
TZOFFSETTO:-0600
TZNAME:CST
DTSTART:20261101T070000
END:STANDARD
BEGIN:DAYLIGHT
TZOFFSETFROM:-0600
TZOFFSETTO:-0500
TZNAME:CDT
DTSTART:20270314T080000
END:DAYLIGHT
BEGIN:STANDARD
TZOFFSETFROM:-0500
TZOFFSETTO:-0600
TZNAME:CST
DTSTART:20271107T070000
END:STANDARD
END:VTIMEZONE
BEGIN:VEVENT
DTSTART;TZID=America/Chicago:20260118T100000
DTEND;TZID=America/Chicago:20260118T120000
DTSTAMP:20260420T112752
CREATED:20260205T011028Z
LAST-MODIFIED:20260205T011028Z
UID:715-1768730400-1768737600@oremet.org
SUMMARY:New and Prospective Member Brunch
DESCRIPTION:Join us for a casual\, informative brunch (bagels!) and an opportunity to meet Or Emet’s Rabbi\, Eva Cohen\, and other congregational leaders. New Or Emet members and others interested in learning more about our congregation are welcome. (Golden Valley location will be provided when you sign up.) \nYou’ll be able to connect with members and others while learning about Humanistic Judaism\, our Jewish Cultural Sunday School\, our B’Mitzvah programs\, adoption into Humanistic Judaism and the Or Emet community. \nIn the past\, this event has been lively\, fun and informative. All are welcome; families and children are welcome\, too\, of course! \nMembership information is also available on Or Emet’s website\, oremet.org. \nIf you are interested in attending and for more info\, please email president@oremet.org.
URL:https://oremet.org/event/new-and-prospective-member-brunch/
LOCATION:TBA
CATEGORIES:Welcome Brunch
ATTACH;FMTTYPE=image/jpeg:https://oremet.org/wp-content/uploads/2026/02/Bagels_BigBagelBundle_480x4801.jpg
END:VEVENT
END:VCALENDAR